BEGIN:VCALENDAR
VERSION:2.0
PRODID:-//Postzegelvereniging Haarlemmermeer - ECPv6.15.20//NONSGML v1.0//EN
CALSCALE:GREGORIAN
METHOD:PUBLISH
X-ORIGINAL-URL:https://www.pzvh.nl
X-WR-CALDESC:Evenementen voor Postzegelvereniging Haarlemmermeer
REFRESH-INTERVAL;VALUE=DURATION:PT1H
X-Robots-Tag:noindex
X-PUBLISHED-TTL:PT1H
BEGIN:VTIMEZONE
TZID:Europe/Amsterdam
BEGIN:DAYLIGHT
TZOFFSETFROM:+0100
TZOFFSETTO:+0200
TZNAME:CEST
DTSTART:20250330T010000
END:DAYLIGHT
BEGIN:STANDARD
TZOFFSETFROM:+0200
TZOFFSETTO:+0100
TZNAME:CET
DTSTART:20251026T010000
END:STANDARD
BEGIN:DAYLIGHT
TZOFFSETFROM:+0100
TZOFFSETTO:+0200
TZNAME:CEST
DTSTART:20260329T010000
END:DAYLIGHT
BEGIN:STANDARD
TZOFFSETFROM:+0200
TZOFFSETTO:+0100
TZNAME:CET
DTSTART:20261025T010000
END:STANDARD
BEGIN:DAYLIGHT
TZOFFSETFROM:+0100
TZOFFSETTO:+0200
TZNAME:CEST
DTSTART:20270328T010000
END:DAYLIGHT
BEGIN:STANDARD
TZOFFSETFROM:+0200
TZOFFSETTO:+0100
TZNAME:CET
DTSTART:20271031T010000
END:STANDARD
END:VTIMEZONE
BEGIN:VEVENT
DTSTART;TZID=Europe/Amsterdam:20261212T100000
DTEND;TZID=Europe/Amsterdam:20261212T150000
DTSTAMP:20260426T004803
CREATED:20260331T082638Z
LAST-MODIFIED:20260331T082638Z
UID:2472-1797069600-1797087600@www.pzvh.nl
SUMMARY:Ruilbeurs Hoofddorp
DESCRIPTION:
URL:https://www.pzvh.nl/event/ruilbeurs-hoofddorp-24/
LOCATION:De Jeugd van Gisteren\, Beemsterstraat 4\, 2131 ZB\, Hoofddorp
CATEGORIES:Ruilbeurs
END:VEVENT
END:VCALENDAR