BEGIN:VCALENDAR
VERSION:2.0
PRODID:-//Postzegelvereniging Haarlemmermeer - ECPv6.15.20//NONSGML v1.0//EN
CALSCALE:GREGORIAN
METHOD:PUBLISH
X-WR-CALNAME:Postzegelvereniging Haarlemmermeer
X-ORIGINAL-URL:https://www.pzvh.nl
X-WR-CALDESC:Evenementen voor Postzegelvereniging Haarlemmermeer
REFRESH-INTERVAL;VALUE=DURATION:PT1H
X-Robots-Tag:noindex
X-PUBLISHED-TTL:PT1H
BEGIN:VTIMEZONE
TZID:Europe/Amsterdam
BEGIN:DAYLIGHT
TZOFFSETFROM:+0100
TZOFFSETTO:+0200
TZNAME:CEST
DTSTART:20240331T010000
END:DAYLIGHT
BEGIN:STANDARD
TZOFFSETFROM:+0200
TZOFFSETTO:+0100
TZNAME:CET
DTSTART:20241027T010000
END:STANDARD
BEGIN:DAYLIGHT
TZOFFSETFROM:+0100
TZOFFSETTO:+0200
TZNAME:CEST
DTSTART:20250330T010000
END:DAYLIGHT
BEGIN:STANDARD
TZOFFSETFROM:+0200
TZOFFSETTO:+0100
TZNAME:CET
DTSTART:20251026T010000
END:STANDARD
BEGIN:DAYLIGHT
TZOFFSETFROM:+0100
TZOFFSETTO:+0200
TZNAME:CEST
DTSTART:20260329T010000
END:DAYLIGHT
BEGIN:STANDARD
TZOFFSETFROM:+0200
TZOFFSETTO:+0100
TZNAME:CET
DTSTART:20261025T010000
END:STANDARD
BEGIN:DAYLIGHT
TZOFFSETFROM:+0100
TZOFFSETTO:+0200
TZNAME:CEST
DTSTART:20270328T010000
END:DAYLIGHT
BEGIN:STANDARD
TZOFFSETFROM:+0200
TZOFFSETTO:+0100
TZNAME:CET
DTSTART:20271031T010000
END:STANDARD
END:VTIMEZONE
BEGIN:VEVENT
DTSTART;TZID=Europe/Amsterdam:20260422T190000
DTEND;TZID=Europe/Amsterdam:20260422T220000
DTSTAMP:20260425T212720
CREATED:20251203T150835Z
LAST-MODIFIED:20260105T124708Z
UID:2411-1776884400-1776895200@www.pzvh.nl
SUMMARY:Verenigingsavond Badhoevedorp
DESCRIPTION:
URL:https://www.pzvh.nl/event/verenigingsavond-badhoevedorp-25/
LOCATION:‘t Rietland\, Chr. Huygensstraat 21\, 1171 XL\, Badhoevedorp
CATEGORIES:Verenigingsavond
END:VEVENT
BEGIN:VEVENT
DTSTART;TZID=Europe/Amsterdam:20260403T190000
DTEND;TZID=Europe/Amsterdam:20260403T213000
DTSTAMP:20260425T212720
CREATED:20251203T150719Z
LAST-MODIFIED:20251203T150719Z
UID:2407-1775242800-1775251800@www.pzvh.nl
SUMMARY:Verenigingsavond Hoofddorp
DESCRIPTION:
URL:https://www.pzvh.nl/event/verenigingsavond-hoofddorp-25/
LOCATION:De Jeugd van Gisteren\, Beemsterstraat 4\, 2131 ZB\, Hoofddorp
CATEGORIES:Verenigingsavond
END:VEVENT
BEGIN:VEVENT
DTSTART;TZID=Europe/Amsterdam:20260325T190000
DTEND;TZID=Europe/Amsterdam:20260325T200000
DTSTAMP:20260425T212720
CREATED:20251203T150444Z
LAST-MODIFIED:20260105T124643Z
UID:2405-1774465200-1774468800@www.pzvh.nl
SUMMARY:Verenigingsavond Badhoevedorp
DESCRIPTION:
URL:https://www.pzvh.nl/event/verenigingsavond-badhoevedorp-21/
LOCATION:‘t Rietland\, Chr. Huygensstraat 21\, 1171 XL\, Badhoevedorp
CATEGORIES:Verenigingsavond
END:VEVENT
BEGIN:VEVENT
DTSTART;TZID=Europe/Amsterdam:20260306T190000
DTEND;TZID=Europe/Amsterdam:20260306T220000
DTSTAMP:20260425T212720
CREATED:20251203T150345Z
LAST-MODIFIED:20251203T150345Z
UID:2401-1772823600-1772834400@www.pzvh.nl
SUMMARY:Verenigingsavond Hoofddorp
DESCRIPTION:
URL:https://www.pzvh.nl/event/verenigingsavond-hoofddorp-23/
LOCATION:De Jeugd van Gisteren\, Beemsterstraat 4\, 2131 ZB\, Hoofddorp
CATEGORIES:Verenigingsavond
END:VEVENT
BEGIN:VEVENT
DTSTART;TZID=Europe/Amsterdam:20260225T190000
DTEND;TZID=Europe/Amsterdam:20260225T220000
DTSTAMP:20260425T212720
CREATED:20251203T145639Z
LAST-MODIFIED:20260105T124613Z
UID:2399-1772046000-1772056800@www.pzvh.nl
SUMMARY:Verenigingsavond Badhoevedorp
DESCRIPTION:
URL:https://www.pzvh.nl/event/verenigingsavond-badhoevedorp-20/
LOCATION:‘t Rietland\, Chr. Huygensstraat 21\, 1171 XL\, Badhoevedorp
CATEGORIES:Verenigingsavond
END:VEVENT
BEGIN:VEVENT
DTSTART;TZID=Europe/Amsterdam:20260206T190000
DTEND;TZID=Europe/Amsterdam:20260206T220000
DTSTAMP:20260425T212720
CREATED:20251203T145539Z
LAST-MODIFIED:20251203T145539Z
UID:2394-1770404400-1770415200@www.pzvh.nl
SUMMARY:Verenigingsavond Hoofddorp
DESCRIPTION:
URL:https://www.pzvh.nl/event/verenigingsavond-hoofddorp-22/
LOCATION:De Jeugd van Gisteren\, Beemsterstraat 4\, 2131 ZB\, Hoofddorp
CATEGORIES:Verenigingsavond
END:VEVENT
BEGIN:VEVENT
DTSTART;TZID=Europe/Amsterdam:20260128T190000
DTEND;TZID=Europe/Amsterdam:20260128T220000
DTSTAMP:20260425T212720
CREATED:20251203T145214Z
LAST-MODIFIED:20251217T083749Z
UID:2392-1769626800-1769637600@www.pzvh.nl
SUMMARY:Verenigingsavond Badhoevedorp
DESCRIPTION:
URL:https://www.pzvh.nl/event/verenigingsavond-badhoevedorp-19/
LOCATION:‘t Rietland\, Chr. Huygensstraat 21\, 1171 XL\, Badhoevedorp
CATEGORIES:Verenigingsavond
END:VEVENT
BEGIN:VEVENT
DTSTART;TZID=Europe/Amsterdam:20260102T190000
DTEND;TZID=Europe/Amsterdam:20260102T220000
DTSTAMP:20260425T212720
CREATED:20251203T145048Z
LAST-MODIFIED:20251203T145048Z
UID:2388-1767380400-1767391200@www.pzvh.nl
SUMMARY:Verenigingsavond Hoofddorp
DESCRIPTION:
URL:https://www.pzvh.nl/event/verenigingsavond-hoofddorp-21/
LOCATION:De Jeugd van Gisteren\, Beemsterstraat 4\, 2131 ZB\, Hoofddorp
CATEGORIES:Verenigingsavond
END:VEVENT
BEGIN:VEVENT
DTSTART;TZID=Europe/Amsterdam:20251205T190000
DTEND;TZID=Europe/Amsterdam:20251205T220000
DTSTAMP:20260425T212720
CREATED:20250228T135713Z
LAST-MODIFIED:20250228T135713Z
UID:2339-1764961200-1764972000@www.pzvh.nl
SUMMARY:Verenigingsavond Hoofddorp
DESCRIPTION:
URL:https://www.pzvh.nl/event/verenigingsavond-hoofddorp-29/
LOCATION:De Jeugd van Gisteren\, Beemsterstraat 4\, 2131 ZB\, Hoofddorp
CATEGORIES:Verenigingsavond
END:VEVENT
BEGIN:VEVENT
DTSTART;TZID=Europe/Amsterdam:20251203T190000
DTEND;TZID=Europe/Amsterdam:20251203T220000
DTSTAMP:20260425T212720
CREATED:20250228T135612Z
LAST-MODIFIED:20250228T135634Z
UID:2336-1764788400-1764799200@www.pzvh.nl
SUMMARY:Verenigingsavond Badhoevedorp
DESCRIPTION:
URL:https://www.pzvh.nl/event/verenigingsavond-badhoevedorp-29-2/
LOCATION:‘t Rietland\, Chr. Huygensstraat 21\, 1171 XL\, Badhoevedorp
CATEGORIES:Verenigingsavond
END:VEVENT
BEGIN:VEVENT
DTSTART;TZID=Europe/Amsterdam:20251107T190000
DTEND;TZID=Europe/Amsterdam:20251107T220000
DTSTAMP:20260425T212720
CREATED:20250228T135438Z
LAST-MODIFIED:20250228T135438Z
UID:2332-1762542000-1762552800@www.pzvh.nl
SUMMARY:Verenigingsavond Hoofddorp
DESCRIPTION:
URL:https://www.pzvh.nl/event/verenigingsavond-hoofddorp-28/
LOCATION:De Jeugd van Gisteren\, Beemsterstraat 4\, 2131 ZB\, Hoofddorp
CATEGORIES:Verenigingsavond
END:VEVENT
BEGIN:VEVENT
DTSTART;TZID=Europe/Amsterdam:20251105T190000
DTEND;TZID=Europe/Amsterdam:20251105T220000
DTSTAMP:20260425T212720
CREATED:20250228T135322Z
LAST-MODIFIED:20250228T135336Z
UID:2329-1762369200-1762380000@www.pzvh.nl
SUMMARY:Verenigingsavond Badhoevedorp
DESCRIPTION:
URL:https://www.pzvh.nl/event/verenigingsavond-hoofddorp-27/
LOCATION:‘t Rietland\, Chr. Huygensstraat 21\, 1171 XL\, Badhoevedorp
CATEGORIES:Verenigingsavond
END:VEVENT
BEGIN:VEVENT
DTSTART;TZID=Europe/Amsterdam:20251008T190000
DTEND;TZID=Europe/Amsterdam:20251008T220000
DTSTAMP:20260425T212720
CREATED:20250228T135213Z
LAST-MODIFIED:20250228T135213Z
UID:2325-1759950000-1759960800@www.pzvh.nl
SUMMARY:Verenigingsavond Badhoevedorp
DESCRIPTION:
URL:https://www.pzvh.nl/event/verenigingsavond-badhoevedorp-24/
LOCATION:‘t Rietland\, Chr. Huygensstraat 21\, 1171 XL\, Badhoevedorp
CATEGORIES:Verenigingsavond
END:VEVENT
BEGIN:VEVENT
DTSTART;TZID=Europe/Amsterdam:20251003T190000
DTEND;TZID=Europe/Amsterdam:20251003T220000
DTSTAMP:20260425T212720
CREATED:20250228T135142Z
LAST-MODIFIED:20250228T135142Z
UID:2323-1759518000-1759528800@www.pzvh.nl
SUMMARY:Verenigingsavond Hoofddorp
DESCRIPTION:
URL:https://www.pzvh.nl/event/verenigingsavond-hoofddorp-26/
LOCATION:De Jeugd van Gisteren\, Beemsterstraat 4\, 2131 ZB\, Hoofddorp
CATEGORIES:Verenigingsavond
END:VEVENT
BEGIN:VEVENT
DTSTART;TZID=Europe/Amsterdam:20250910T190000
DTEND;TZID=Europe/Amsterdam:20250910T220000
DTSTAMP:20260425T212720
CREATED:20250228T135027Z
LAST-MODIFIED:20250228T135027Z
UID:2319-1757530800-1757541600@www.pzvh.nl
SUMMARY:Verenigingsavond Badhoevedorp
DESCRIPTION:
URL:https://www.pzvh.nl/event/verenigingsavond-badhoevedorp-23/
LOCATION:‘t Rietland\, Chr. Huygensstraat 21\, 1171 XL\, Badhoevedorp
CATEGORIES:Verenigingsavond
END:VEVENT
BEGIN:VEVENT
DTSTART;TZID=Europe/Amsterdam:20250905T190000
DTEND;TZID=Europe/Amsterdam:20250905T220000
DTSTAMP:20260425T212720
CREATED:20250228T134937Z
LAST-MODIFIED:20250228T134937Z
UID:2317-1757098800-1757109600@www.pzvh.nl
SUMMARY:Verenigingsavond Hoofddorp
DESCRIPTION:
URL:https://www.pzvh.nl/event/verenigingsavond-hoofddorp-24/
LOCATION:De Jeugd van Gisteren\, Beemsterstraat 4\, 2131 ZB\, Hoofddorp
CATEGORIES:Verenigingsavond
END:VEVENT
BEGIN:VEVENT
DTSTART;TZID=Europe/Amsterdam:20250619T190000
DTEND;TZID=Europe/Amsterdam:20250619T220000
DTSTAMP:20260425T212720
CREATED:20240717T133534Z
LAST-MODIFIED:20240717T133534Z
UID:2255-1750359600-1750370400@www.pzvh.nl
SUMMARY:Verenigingsavond Nieuw-Vennep
DESCRIPTION:
URL:https://www.pzvh.nl/event/verenigingsavond-nieuw-vennep-35/
LOCATION:De Krim\, Eugenie Previnaireweg 63\, 2151 BB\, Nieuw-Vennep
CATEGORIES:Verenigingsavond
END:VEVENT
BEGIN:VEVENT
DTSTART;TZID=Europe/Amsterdam:20250606T190000
DTEND;TZID=Europe/Amsterdam:20250606T220000
DTSTAMP:20260425T212720
CREATED:20240717T131413Z
LAST-MODIFIED:20240717T131413Z
UID:2246-1749236400-1749247200@www.pzvh.nl
SUMMARY:Verenigingsavond Hoofddorp
DESCRIPTION:
URL:https://www.pzvh.nl/event/verenigingsavond-hoofddorp-39/
LOCATION:De Jeugd van Gisteren\, Beemsterstraat 4\, 2131 ZB\, Hoofddorp
CATEGORIES:Verenigingsavond
END:VEVENT
BEGIN:VEVENT
DTSTART;TZID=Europe/Amsterdam:20250604T190000
DTEND;TZID=Europe/Amsterdam:20250604T220000
DTSTAMP:20260425T212720
CREATED:20240717T131903Z
LAST-MODIFIED:20241202T130704Z
UID:2250-1749063600-1749074400@www.pzvh.nl
SUMMARY:Verenigingsavond Badhoevedorp
DESCRIPTION:
URL:https://www.pzvh.nl/event/verenigingsavond-badhoevedorp-39/
LOCATION:‘t Rietland\, Chr. Huygensstraat 21\, 1171 XL\, Badhoevedorp
CATEGORIES:Verenigingsavond
END:VEVENT
BEGIN:VEVENT
DTSTART;TZID=Europe/Amsterdam:20250515T190000
DTEND;TZID=Europe/Amsterdam:20250515T220000
DTSTAMP:20260425T212720
CREATED:20240717T131318Z
LAST-MODIFIED:20240717T131318Z
UID:2244-1747335600-1747346400@www.pzvh.nl
SUMMARY:Verenigingsavond Nieuw-Vennep
DESCRIPTION:
URL:https://www.pzvh.nl/event/verenigingsavond-nieuw-vennep-34/
LOCATION:De Krim\, Eugenie Previnaireweg 63\, 2151 BB\, Nieuw-Vennep
CATEGORIES:Verenigingsavond
END:VEVENT
BEGIN:VEVENT
DTSTART;TZID=Europe/Amsterdam:20250507T190000
DTEND;TZID=Europe/Amsterdam:20250507T220000
DTSTAMP:20260425T212720
CREATED:20240717T131159Z
LAST-MODIFIED:20241202T130649Z
UID:2242-1746644400-1746655200@www.pzvh.nl
SUMMARY:Verenigingsavond Badhoevedorp
DESCRIPTION:
URL:https://www.pzvh.nl/event/verenigingsavond-badhoevedorp-33/
LOCATION:‘t Rietland\, Chr. Huygensstraat 21\, 1171 XL\, Badhoevedorp
CATEGORIES:Verenigingsavond
END:VEVENT
BEGIN:VEVENT
DTSTART;TZID=Europe/Amsterdam:20250502T190000
DTEND;TZID=Europe/Amsterdam:20250502T220000
DTSTAMP:20260425T212720
CREATED:20240717T130750Z
LAST-MODIFIED:20250425T074957Z
UID:2238-1746212400-1746223200@www.pzvh.nl
SUMMARY:Verenigingsavond + Algemene LedenVergadering - Hoofddorp
DESCRIPTION:ALGEMENE LEDENVERGADERING\nOp vrijdag 2 mei a.s. zal onze Algemene Ledenvergadering tijdens de verenigingsavond in Hoofddorp plaatsvinden. \nDe agenda vindt u in het maandblad van mei op pagina 6.
URL:https://www.pzvh.nl/event/verenigingsavond-hoofddorp-36/
LOCATION:De Jeugd van Gisteren\, Beemsterstraat 4\, 2131 ZB\, Hoofddorp
CATEGORIES:Algemene Ledenvergadering,Verenigingsavond
END:VEVENT
END:VCALENDAR